BEGIN:VCALENDAR
VERSION:2.0
PRODID:-//Instant Grimpe - ECPv6.15.20//NONSGML v1.0//EN
CALSCALE:GREGORIAN
METHOD:PUBLISH
X-ORIGINAL-URL:https://instantgrimpe.fr
X-WR-CALDESC:Évènements pour Instant Grimpe
REFRESH-INTERVAL;VALUE=DURATION:PT1H
X-Robots-Tag:noindex
X-PUBLISHED-TTL:PT1H
BEGIN:VTIMEZONE
TZID:Europe/Paris
BEGIN:DAYLIGHT
TZOFFSETFROM:+0100
TZOFFSETTO:+0200
TZNAME:CEST
DTSTART:20220327T010000
END:DAYLIGHT
BEGIN:STANDARD
TZOFFSETFROM:+0200
TZOFFSETTO:+0100
TZNAME:CET
DTSTART:20221030T010000
END:STANDARD
BEGIN:DAYLIGHT
TZOFFSETFROM:+0100
TZOFFSETTO:+0200
TZNAME:CEST
DTSTART:20230326T010000
END:DAYLIGHT
BEGIN:STANDARD
TZOFFSETFROM:+0200
TZOFFSETTO:+0100
TZNAME:CET
DTSTART:20231029T010000
END:STANDARD
BEGIN:DAYLIGHT
TZOFFSETFROM:+0100
TZOFFSETTO:+0200
TZNAME:CEST
DTSTART:20240331T010000
END:DAYLIGHT
BEGIN:STANDARD
TZOFFSETFROM:+0200
TZOFFSETTO:+0100
TZNAME:CET
DTSTART:20241027T010000
END:STANDARD
BEGIN:DAYLIGHT
TZOFFSETFROM:+0100
TZOFFSETTO:+0200
TZNAME:CEST
DTSTART:20250330T010000
END:DAYLIGHT
BEGIN:STANDARD
TZOFFSETFROM:+0200
TZOFFSETTO:+0100
TZNAME:CET
DTSTART:20251026T010000
END:STANDARD
END:VTIMEZONE
BEGIN:VEVENT
DTSTART;VALUE=DATE:20240826
DTEND;VALUE=DATE:20240831
DTSTAMP:20260423T112135
CREATED:20240609T121059Z
LAST-MODIFIED:20240609T121059Z
UID:214738-1724630400-1725062399@instantgrimpe.fr
SUMMARY:Stage été 2024 #4
DESCRIPTION:Les vacances d’été approchent à grands pas et comme à comme pour toutes les vacances scolaires\, Instant Grimpe vous propose des stages d’escalade 🧗‍♀️ pour les 6-17 ans 😎\n5 jours de stage ludique et fun 🤗 avec un goûter inclus 🥐 Du lundi au vendredi de 9h à 12h. Les places sont limitées à 14 participants…. Inscrivez vous rapidement par téléphone 📞\, mail 📩 ou directement à l’accueil 😀.
URL:https://instantgrimpe.fr/evenement/stage-ete-2024-4/
LOCATION:Instant Grimpe\, 38A Route Industrielle de la Hardt\, Molsheim\, 67120\, France
ORGANIZER;CN="Instant Grimpe":MAILTO:contact@instantgrimpe.fr
END:VEVENT
BEGIN:VEVENT
DTSTART;VALUE=DATE:20240819
DTEND;VALUE=DATE:20240824
DTSTAMP:20260423T112135
CREATED:20240609T121002Z
LAST-MODIFIED:20240609T121002Z
UID:214736-1724025600-1724457599@instantgrimpe.fr
SUMMARY:Stage été 2024 #3
DESCRIPTION:Les vacances d’été approchent à grands pas et comme à comme pour toutes les vacances scolaires\, Instant Grimpe vous propose des stages d’escalade 🧗‍♀️ pour les 6-17 ans 😎\n5 jours de stage ludique et fun 🤗 avec un goûter inclus 🥐 Du lundi au vendredi de 9h à 12h. Les places sont limitées à 14 participants…. Inscrivez vous rapidement par téléphone 📞\, mail 📩 ou directement à l’accueil 😀.
URL:https://instantgrimpe.fr/evenement/stage-ete-2024-3/
LOCATION:Instant Grimpe\, 38A Route Industrielle de la Hardt\, Molsheim\, 67120\, France
ORGANIZER;CN="Instant Grimpe":MAILTO:contact@instantgrimpe.fr
END:VEVENT
BEGIN:VEVENT
DTSTART;VALUE=DATE:20240715
DTEND;VALUE=DATE:20240720
DTSTAMP:20260423T112135
CREATED:20240609T120616Z
LAST-MODIFIED:20240609T120616Z
UID:214734-1721001600-1721433599@instantgrimpe.fr
SUMMARY:Stage été 2024 #2
DESCRIPTION:Les vacances d’été approchent à grands pas et comme à comme pour toutes les vacances scolaires\, Instant Grimpe vous propose des stages d’escalade 🧗‍♀️ pour les 6-17 ans 😎\n5 jours de stage ludique et fun 🤗 avec un goûter inclus 🥐 Du lundi au vendredi de 9h à 12h. Les places sont limitées à 14 participants…. Inscrivez vous rapidement par téléphone 📞\, mail 📩 ou directement à l’accueil 😀.
URL:https://instantgrimpe.fr/evenement/stage-ete-2024-2/
LOCATION:Instant Grimpe\, 38A Route Industrielle de la Hardt\, Molsheim\, 67120\, France
ORGANIZER;CN="Instant Grimpe":MAILTO:contact@instantgrimpe.fr
END:VEVENT
BEGIN:VEVENT
DTSTART;VALUE=DATE:20240708
DTEND;VALUE=DATE:20240713
DTSTAMP:20260423T112135
CREATED:20240609T120536Z
LAST-MODIFIED:20240609T120536Z
UID:214731-1720396800-1720828799@instantgrimpe.fr
SUMMARY:Stage été 2024 #1
DESCRIPTION:Les vacances d’été approchent à grands pas et comme à comme pour toutes les vacances scolaires\, Instant Grimpe vous propose des stages d’escalade 🧗‍♀️ pour les 6-17 ans 😎\n5 jours de stage ludique et fun 🤗 avec un goûter inclus 🥐 Du lundi au vendredi de 9h à 12h. Les places sont limitées à 14 participants…. Inscrivez vous rapidement par téléphone 📞\, mail 📩 ou directement à l’accueil 😀.
URL:https://instantgrimpe.fr/evenement/stage-ete-2024-1/
LOCATION:Instant Grimpe\, 38A Route Industrielle de la Hardt\, Molsheim\, 67120\, France
ORGANIZER;CN="Instant Grimpe":MAILTO:contact@instantgrimpe.fr
END:VEVENT
BEGIN:VEVENT
DTSTART;TZID=Europe/Paris:20240525T093000
DTEND;TZID=Europe/Paris:20240525T140000
DTSTAMP:20260423T112135
CREATED:20240426T110508Z
LAST-MODIFIED:20240426T110508Z
UID:214693-1716629400-1716645600@instantgrimpe.fr
SUMMARY:BRETZEL BLOC CONTEST KIDS #3
DESCRIPTION:Salut à tous\,👋\n\n\n \n\n\nApres le Bretzel Bloc Contest 3\, place au Kids Bretzel Bloc Contest 3 !🥨\n\n\nC’est un open de Bloc pour les enfants et adolescents de 6 à 14 ans\, qui aura lieu à Instant Grimpe le 25 mai 2024 !🤩\n\n\n \n\n\nPour l’occasion nous ouvrons une vingtaine de blocs adaptés aux enfants\, et adolescents !😜 Un bretzel sera offert à tous les participants et de nombreux lots sont prévues pour les finalistes. Nous organiserons également un tirage au sort pour gagner des articles d’escalade !😁🧗‍♀️\n\n\n \n\n\nLe programme :💪\n\n\nQualifications : 9h30/11h30\n\n\nFinale : 12h30\n\n\nRemise des prix : 13h30\n\n\n \n\n\nLe prix est de :😉\n\n\n15€ pour les non- abonné(e)s\n\n\n10€ pour les abonnés(e)s
URL:https://instantgrimpe.fr/evenement/bretzel-bloc-contest-kids-3/
LOCATION:Instant Grimpe\, 38A Route Industrielle de la Hardt\, Molsheim\, 67120\, France
ORGANIZER;CN="Instant Grimpe":MAILTO:contact@instantgrimpe.fr
END:VEVENT
BEGIN:VEVENT
DTSTART;TZID=Europe/Paris:20240515T180000
DTEND;TZID=Europe/Paris:20240619T203000
DTSTAMP:20260423T112135
CREATED:20240409T141830Z
LAST-MODIFIED:20240409T141837Z
UID:214683-1715796000-1718829000@instantgrimpe.fr
SUMMARY:Escalade en tête
DESCRIPTION:Instant Grimpe vous propose à nouveau des cours d’escalade pour grimper en tête 🙃 ! \nUn cycle de 6 séances du 15 mai au 19 juin\, tous les mercredis de 18h30 à 20h !\n🧗‍♀️ En route vers l’autonomie 💪 ! \nTarif: 70 euros le cycle complet\nLes places sont limitées à 12 participants et le cycle n’aura pas lieu en dessous de 6 inscrits.\nMieux vaut réserver par mail 📩\, téléphone 📞 ou directement à l’accueil 💁‍♂️ !\nLa team Instant Grimpe \n#actualitesescalade #amisgrimpeurs #Instantgrimpe #escalade #molsheim #formation #escaladeentete
URL:https://instantgrimpe.fr/evenement/escalade-en-tete/
LOCATION:Instant Grimpe\, 38A Route Industrielle de la Hardt\, Molsheim\, 67120\, France
ORGANIZER;CN="Instant Grimpe":MAILTO:contact@instantgrimpe.fr
END:VEVENT
BEGIN:VEVENT
DTSTART;TZID=Europe/Paris:20240429T090000
DTEND;TZID=Europe/Paris:20240503T120000
DTSTAMP:20260423T112135
CREATED:20240325T153021Z
LAST-MODIFIED:20240325T153028Z
UID:214659-1714381200-1714737600@instantgrimpe.fr
SUMMARY:Stage du Printemps
DESCRIPTION:Hello à tous\, \n\n\n \n\n\nLes vacances d’avril approchent à grands pas et chez Instant Grimpe\, les vacances riment avec stage d’escalade 🧗‍♀️ pour les 6-17 ans 😎\n\n\n \n\n\nLe stage de printemps aura lieu la 2e semaine des vacances à savoir du 29 avril au 3 mai (1er mai non inclus).\n\n\n \n\n\n4 jours de stage ludique et fun 🤗 avec un goûter inclus 🥐\n\n\nDu lundi au vendredi de 9h à 12h. (sauf mercredi 1er mai)\n\n\nLes places sont limitées à 14 participants….\n\n\nInscrivez vous rapidement par téléphone 📞\, mail 📩 ou directement à l’accueil 😀✌
URL:https://instantgrimpe.fr/evenement/stage-du-printemps/
LOCATION:Instant Grimpe\, 38A Route Industrielle de la Hardt\, Molsheim\, 67120\, France
ORGANIZER;CN="Instant Grimpe":MAILTO:contact@instantgrimpe.fr
END:VEVENT
BEGIN:VEVENT
DTSTART;TZID=Europe/Paris:20240412T170000
DTEND;TZID=Europe/Paris:20240412T220000
DTSTAMP:20260423T112135
CREATED:20240223T172253Z
LAST-MODIFIED:20240223T172253Z
UID:214623-1712941200-1712959200@instantgrimpe.fr
SUMMARY:Bretzel Bloc Contest #3
DESCRIPTION:On se donne rendez vous le 12.04.2024 pour une soirée de ouf\, le Bretzel Bloc Contest #3 !💥🤩 Au programme\, comme d’hab\, des bretzels\, du bloc et des tartes flambées.😋\nAmbiance conviviale et fun garantie\, venez nombreux !😁😁
URL:https://instantgrimpe.fr/evenement/bretzel-bloc-contest-3/
LOCATION:Instant Grimpe\, 38A Route Industrielle de la Hardt\, Molsheim\, 67120\, France
ORGANIZER;CN="Instant Grimpe":MAILTO:contact@instantgrimpe.fr
END:VEVENT
BEGIN:VEVENT
DTSTART;TZID=Europe/Paris:20240315T170000
DTEND;TZID=Europe/Paris:20240315T220000
DTSTAMP:20260423T112135
CREATED:20240223T171635Z
LAST-MODIFIED:20240223T171635Z
UID:214620-1710522000-1710540000@instantgrimpe.fr
SUMMARY:Tarti Bloc Contest
DESCRIPTION:🧗‍♂️🏔️🧀 C’est parti pour Le Tarti Bloc contest ! 🧀🏔️🧗‍♀️\n\n\n \n\n\nAmateurs de grimpe et de bonne bouffe\, préparez-vous pour une soirée mémorable ! 🌟 Le Tarti Bloc\, arrive en force cette année. 🎉 Avec une quinzaine de blocs\, cette compétition promet des défis à la hauteur de vos compétences. Mais attention\, cette fois-ci\, pas de finales ! 🚫🏆 Le classement se fera au scratch\, alors chaque bloc compte. 💪\n\n\n \n\n\nEt comme si grimper n’était pas assez excitant\, nous vous réservons une surprise gourmande : une délicieuse tartiflette ! 🍲🧀 C’est l’occasion parfaite de se régaler ensemble et de reprendre des forces après l’effort. 😋\n\n\n \n\n\n📅 Les entrées seront à 10€ pour les abonné(e)s et 15€ pour les non-abonné(e)s ! Réservez votre place dès maintenant et commandez votre propre portion de tartiflette pour seulement 7€ ! 📝 Places limitées\, alors ne tardez pas à vous inscrire. Envoyez-nous un message direct pour réserver votre place et commander votre repas.\n\n\n \n\n\nPréparez-vous à grimper\, manger et à vous amuser comme jamais au Tarti Bloc ! 🥳 #TartiBloc #GrimpeEtTartiflette #CompétitionDeBloc #molsheim #Escalade #Instantgrimpe #tartibloccontest #contes
URL:https://instantgrimpe.fr/evenement/tarti-bloc-contest/
LOCATION:Instant Grimpe\, 38A Route Industrielle de la Hardt\, Molsheim\, 67120\, France
ORGANIZER;CN="Instant Grimpe":MAILTO:contact@instantgrimpe.fr
END:VEVENT
BEGIN:VEVENT
DTSTART;TZID=Europe/Paris:20240226T090000
DTEND;TZID=Europe/Paris:20240301T120000
DTSTAMP:20260423T112135
CREATED:20240223T181647Z
LAST-MODIFIED:20240223T181647Z
UID:214634-1708938000-1709294400@instantgrimpe.fr
SUMMARY:Stage d'hiver
DESCRIPTION:Comme pour toutes les vacances nous organisons des stages pour les 6-17 ans.😁 \nLe prochain aura lieu la première semaine des vacances d’hiver\, à savoir la semaine du 26 février au 1er mars !😉 \nPour s’inscrire\, veuillez nous contacter par mail\, par téléphone ou directement à l’accueil de la salle. Les places sont limitées\, alors si ca t’intéresse\, préviens nous au plus vite !🔥
URL:https://instantgrimpe.fr/evenement/stage-dhiver/
LOCATION:Instant Grimpe\, 38A Route Industrielle de la Hardt\, Molsheim\, 67120\, France
ORGANIZER;CN="Instant Grimpe":MAILTO:contact@instantgrimpe.fr
END:VEVENT
BEGIN:VEVENT
DTSTART;TZID=Europe/Paris:20240209T180000
DTEND;TZID=Europe/Paris:20240209T210000
DTSTAMP:20260423T112135
CREATED:20240111T180250Z
LAST-MODIFIED:20240111T180250Z
UID:214594-1707501600-1707512400@instantgrimpe.fr
SUMMARY:Les Arts de l'Ouverture
DESCRIPTION:🧗‍♂️Atelier « L’Art de l’Ouverture » – Explorez votre créativité en escalade! 🧗‍♀️\n\n\n \n\n\nPenses tu être capable d’ouvrir un bloc IG ?😉\n\n\n \n\n\n🌟 Viens découvrir de quelle manière\, les blocs de ta salle d’escalade sont confectionnés lors de notre atelier exclusif « Les Arts de l’Ouverture » ! 🌟\n\n\n \n\n\nEncadré et organisé par la team IG\, cet atelier te permettra de découvrir la conception de blocs. Tu verras les différentes techniques et approches pour créer des blocs uniques et intéressants pour les grimpeurs.\n\n\n \n\n\n« Les arts de l’ouverture » est une opportunité exceptionnelle pour toi d’exprimer ta créativité tout en te souciant des aspects techniques de l’escalade.\n\n\n \n\n\n🗓️ Quand : Vendredi 9 février de 18h à 21h\n\n\n📍 Où : INSTANT GRIMPE\n\n\n \n\n\n🚨 Attention : seulement 6 places sont disponibles pour cette expérience. Réserve ta place dès maintenant pour ne pas passer à côté de cette occasion unique !🚨\n\n\n \n\n\nPour t’inscrire ou pour toute information complémentaire\, contacte nous par message privé\, par mail ou directement à l’accueil de la salle. \n\n\n 
URL:https://instantgrimpe.fr/evenement/les-arts-de-louverture/
LOCATION:Instant Grimpe\, 38A Route Industrielle de la Hardt\, Molsheim\, 67120\, France
ORGANIZER;CN="Instant Grimpe":MAILTO:contact@instantgrimpe.fr
END:VEVENT
BEGIN:VEVENT
DTSTART;TZID=Europe/Paris:20240102T090000
DTEND;TZID=Europe/Paris:20240105T120000
DTSTAMP:20260423T112135
CREATED:20231202T163159Z
LAST-MODIFIED:20231202T163159Z
UID:214584-1704186000-1704456000@instantgrimpe.fr
SUMMARY:Stage de Noël
DESCRIPTION:Les vacances de Noël approchent à grands pas et comme pour toutes les vacances scolaires\, Instant Grimpe vous propose des stages d’escalade 🧗‍♀️ pour les 6-17 ans 😎 \n4 jours de stage ludique et fun 🤗 avec un goûter inclus 🥐\nDu lundi au vendredi de 9h à 12h.\nLes places sont limitées à 14 participants….\nInscrivez vous rapidement par téléphone 📞\, mail 📩 ou directement à l’accueil 😀✌
URL:https://instantgrimpe.fr/evenement/stage-de-noel/
LOCATION:Instant Grimpe\, 38A Route Industrielle de la Hardt\, Molsheim\, 67120\, France
ORGANIZER;CN="Instant Grimpe":MAILTO:contact@instantgrimpe.fr
END:VEVENT
BEGIN:VEVENT
DTSTART;VALUE=DATE:20240101
DTEND;VALUE=DATE:20240102
DTSTAMP:20260423T112135
CREATED:20231202T162436Z
LAST-MODIFIED:20231202T162436Z
UID:214579-1704067200-1704153599@instantgrimpe.fr
SUMMARY:Femeture
DESCRIPTION:Nous serons fermés toute la journée !
URL:https://instantgrimpe.fr/evenement/femeture-2/
LOCATION:Instant Grimpe\, 38A Route Industrielle de la Hardt\, Molsheim\, 67120\, France
ORGANIZER;CN="Instant Grimpe":MAILTO:contact@instantgrimpe.fr
END:VEVENT
BEGIN:VEVENT
DTSTART;TZID=Europe/Paris:20231231T100000
DTEND;TZID=Europe/Paris:20231231T160000
DTSTAMP:20260423T112135
CREATED:20231202T162636Z
LAST-MODIFIED:20231202T162636Z
UID:214582-1704016800-1704038400@instantgrimpe.fr
SUMMARY:Fermeture à 16h!
DESCRIPTION:Nous fermerons la salle à 16h!
URL:https://instantgrimpe.fr/evenement/fermeture-a-16h/
LOCATION:Instant Grimpe\, 38A Route Industrielle de la Hardt\, Molsheim\, 67120\, France
ORGANIZER;CN="Instant Grimpe":MAILTO:contact@instantgrimpe.fr
END:VEVENT
BEGIN:VEVENT
DTSTART;VALUE=DATE:20231225
DTEND;VALUE=DATE:20231226
DTSTAMP:20260423T112135
CREATED:20231202T162237Z
LAST-MODIFIED:20231202T162237Z
UID:214577-1703462400-1703548799@instantgrimpe.fr
SUMMARY:Femeture
DESCRIPTION:Nous serons fermés toute la journée !
URL:https://instantgrimpe.fr/evenement/femeture/
LOCATION:Instant Grimpe\, 38A Route Industrielle de la Hardt\, Molsheim\, 67120\, France
ORGANIZER;CN="Instant Grimpe":MAILTO:contact@instantgrimpe.fr
END:VEVENT
BEGIN:VEVENT
DTSTART;TZID=Europe/Paris:20231224T100000
DTEND;TZID=Europe/Paris:20231224T160000
DTSTAMP:20260423T112135
CREATED:20231202T161922Z
LAST-MODIFIED:20231202T170302Z
UID:214571-1703412000-1703433600@instantgrimpe.fr
SUMMARY:Fermeture à 16h!
DESCRIPTION:Nous fermerons la salle à 16h !
URL:https://instantgrimpe.fr/evenement/fermeture/
LOCATION:Instant Grimpe\, 38A Route Industrielle de la Hardt\, Molsheim\, 67120\, France
ORGANIZER;CN="Instant Grimpe":MAILTO:contact@instantgrimpe.fr
END:VEVENT
BEGIN:VEVENT
DTSTART;TZID=Europe/Paris:20231220T183000
DTEND;TZID=Europe/Paris:20231220T200000
DTSTAMP:20260423T112135
CREATED:20231117T175025Z
LAST-MODIFIED:20231117T180110Z
UID:214559-1703097000-1703102400@instantgrimpe.fr
SUMMARY:Escalade en tête #7
DESCRIPTION:Révisions générales
URL:https://instantgrimpe.fr/evenement/escalade-en-tete-7/
LOCATION:Instant Grimpe\, 38A Route Industrielle de la Hardt\, Molsheim\, 67120\, France
ORGANIZER;CN="Instant Grimpe":MAILTO:contact@instantgrimpe.fr
END:VEVENT
BEGIN:VEVENT
DTSTART;TZID=Europe/Paris:20231213T183000
DTEND;TZID=Europe/Paris:20231213T200000
DTSTAMP:20260423T112135
CREATED:20231117T174925Z
LAST-MODIFIED:20231117T180050Z
UID:214557-1702492200-1702497600@instantgrimpe.fr
SUMMARY:Escalade en tête #6
DESCRIPTION:Réchap’ et Matériels
URL:https://instantgrimpe.fr/evenement/escalade-en-tete-6/
LOCATION:Instant Grimpe\, 38A Route Industrielle de la Hardt\, Molsheim\, 67120\, France
ORGANIZER;CN="Instant Grimpe":MAILTO:contact@instantgrimpe.fr
END:VEVENT
BEGIN:VEVENT
DTSTART;TZID=Europe/Paris:20231210T100000
DTEND;TZID=Europe/Paris:20231210T200000
DTSTAMP:20260423T112135
CREATED:20231202T161232Z
LAST-MODIFIED:20231202T161330Z
UID:214567-1702202400-1702238400@instantgrimpe.fr
SUMMARY:Journée découverte
DESCRIPTION:Toutes les entrées à -50% ! \n\n3 Ateliers de formations d’escalade sur grandes cordes : \n14h-15h/16h-17h/18h-19h à 5€ au lieu de 9€
URL:https://instantgrimpe.fr/evenement/journee-decouverte/
LOCATION:Instant Grimpe\, 38A Route Industrielle de la Hardt\, Molsheim\, 67120\, France
ORGANIZER;CN="Instant Grimpe":MAILTO:contact@instantgrimpe.fr
END:VEVENT
BEGIN:VEVENT
DTSTART;TZID=Europe/Paris:20231206T183000
DTEND;TZID=Europe/Paris:20231206T200000
DTSTAMP:20260423T112135
CREATED:20231117T174819Z
LAST-MODIFIED:20231117T180030Z
UID:214555-1701887400-1701892800@instantgrimpe.fr
SUMMARY:Escalade en tête #5
DESCRIPTION:Manip de relai 22ème étape et Manip de relai 3ème étape
URL:https://instantgrimpe.fr/evenement/escalade-en-tete-5/
LOCATION:Instant Grimpe\, 38A Route Industrielle de la Hardt\, Molsheim\, 67120\, France
ORGANIZER;CN="Instant Grimpe":MAILTO:contact@instantgrimpe.fr
END:VEVENT
BEGIN:VEVENT
DTSTART;TZID=Europe/Paris:20231129T183000
DTEND;TZID=Europe/Paris:20231129T200000
DTSTAMP:20260423T112135
CREATED:20231117T174650Z
LAST-MODIFIED:20231117T180006Z
UID:214553-1701282600-1701288000@instantgrimpe.fr
SUMMARY:Escalade en tête #4
DESCRIPTION:Manip de relai 1ère étape\, Assurage en tête 2ème étape et Chutes dynamisées 2ème étape
URL:https://instantgrimpe.fr/evenement/escalade-en-tete-4/
LOCATION:Instant Grimpe\, 38A Route Industrielle de la Hardt\, Molsheim\, 67120\, France
ORGANIZER;CN="Instant Grimpe":MAILTO:contact@instantgrimpe.fr
END:VEVENT
BEGIN:VEVENT
DTSTART;TZID=Europe/Paris:20231125T140000
DTEND;TZID=Europe/Paris:20231125T183000
DTSTAMP:20260423T112135
CREATED:20231117T172504Z
LAST-MODIFIED:20231117T172549Z
UID:214539-1700920800-1700937000@instantgrimpe.fr
SUMMARY:Bretzel Bloc Contest Kids #2
DESCRIPTION:La team IG vous propose le Kids Bretzel Bloc Contest.🥨\nC’est une compet’ de Bloc pour les enfants et adolescents de 6 à 15 ans\, qui aura lieu à Instant Grimpe le 25 novembre 2023 !🤩 \nEntre 20 et 25 blocs adaptés et de tous niveaux vous attendent pour vous challenger.😝 \nLe format est classique ! 2h30 de qualification de 14h à 16h30. Petit goûté 🍪 et finales à 17h30.😁\nAmbiance fun et conviviale au rendez vous😎\nLe tarif est de 15 € et de 12 € pour les abonné(e)s.
URL:https://instantgrimpe.fr/evenement/bretzel-bloc-contest-kids/
LOCATION:Instant Grimpe\, 38A Route Industrielle de la Hardt\, Molsheim\, 67120\, France
ORGANIZER;CN="Instant Grimpe":MAILTO:contact@instantgrimpe.fr
END:VEVENT
BEGIN:VEVENT
DTSTART;TZID=Europe/Paris:20231122T183000
DTEND;TZID=Europe/Paris:20231122T200000
DTSTAMP:20260423T112135
CREATED:20231117T174433Z
LAST-MODIFIED:20231117T175938Z
UID:214551-1700677800-1700683200@instantgrimpe.fr
SUMMARY:Escalade en tête #3
DESCRIPTION:Assurage en tête 1ère étape et Chutes dynamisées 1ère étape
URL:https://instantgrimpe.fr/evenement/escalade-en-tete-3/
LOCATION:Instant Grimpe\, 38A Route Industrielle de la Hardt\, Molsheim\, 67120\, France
ORGANIZER;CN="Instant Grimpe":MAILTO:contact@instantgrimpe.fr
END:VEVENT
BEGIN:VEVENT
DTSTART;TZID=Europe/Paris:20231115T183000
DTEND;TZID=Europe/Paris:20231115T200000
DTSTAMP:20260423T112135
CREATED:20231117T174231Z
LAST-MODIFIED:20231117T175857Z
UID:214549-1700073000-1700078400@instantgrimpe.fr
SUMMARY:Escalade en tête #2
DESCRIPTION:Clippage de dégaines et Assurage au tube 2ème étape
URL:https://instantgrimpe.fr/evenement/escalade-en-tete-2/
LOCATION:Instant Grimpe\, 38A Route Industrielle de la Hardt\, Molsheim\, 67120\, France
ORGANIZER;CN="Instant Grimpe":MAILTO:contact@instantgrimpe.fr
END:VEVENT
BEGIN:VEVENT
DTSTART;TZID=Europe/Paris:20231108T183000
DTEND;TZID=Europe/Paris:20231108T200000
DTSTAMP:20260423T112135
CREATED:20231117T174052Z
LAST-MODIFIED:20231117T175917Z
UID:214544-1699468200-1699473600@instantgrimpe.fr
SUMMARY:Escalade en tête #1
DESCRIPTION:Nœud de 8 et Assurage au tube 1ère étape
URL:https://instantgrimpe.fr/evenement/escalade-en-tete-1/
LOCATION:Instant Grimpe\, 38A Route Industrielle de la Hardt\, Molsheim\, 67120\, France
ORGANIZER;CN="Instant Grimpe":MAILTO:contact@instantgrimpe.fr
END:VEVENT
BEGIN:VEVENT
DTSTART;VALUE=DATE:20231023
DTEND;VALUE=DATE:20231028
DTSTAMP:20260423T112135
CREATED:20231011T093314Z
LAST-MODIFIED:20231011T093314Z
UID:214518-1698019200-1698451199@instantgrimpe.fr
SUMMARY:Stage Vacances Toussaint 2023
DESCRIPTION:Salut à tous\, \nComme pour toutes les vacances scolaires😎\, Instant Grimpe vous propose des stages d’escalade pour les 6-17 ans.\n5 jours de stage ludique et Fun avec un goûter inclus.\nDu lundi au vendredi de 9h à 12h.\nLes places sont limitées à 14 participants….\nInscrivez vous rapidement. 😀✌ \nA tout Vite!
URL:https://instantgrimpe.fr/evenement/stage-vacances-toussaint-2023/
LOCATION:Instant Grimpe\, 38A Route Industrielle de la Hardt\, Molsheim\, 67120\, France
ORGANIZER;CN="Instant Grimpe":MAILTO:contact@instantgrimpe.fr
END:VEVENT
BEGIN:VEVENT
DTSTART;TZID=Europe/Paris:20231006T170000
DTEND;TZID=Europe/Paris:20231006T220000
DTSTAMP:20260423T112135
CREATED:20231011T093125Z
LAST-MODIFIED:20231011T093125Z
UID:214515-1696611600-1696629600@instantgrimpe.fr
SUMMARY:BBC #2
DESCRIPTION:Yop BBC volume 2 is back ! 😁💪🥨 \nInstant Grimpe vous propose à nouveau son Open de Bloc : le Bretzel Bloc Contest 2 !🥳 \nLe concept :\nUne soirée tartes flambées\,\n30 Blocs de tous niveaux à essayer\,\nEt de nombreux cadeaux à remporter ! \nPré-inscription : 20€ avec une boisson offerte\nInscription pour les abonné(e)s : 15€ \nPrêts à grimper ? 🧗‍♂️😜\nOn vous attend nombreux le 06 octobre à partir de 17h\, qualification jusqu’à 20h & finale à 21h ! J-14 \nLa team Instant Grimpe😁
URL:https://instantgrimpe.fr/evenement/bbc-2/
LOCATION:Instant Grimpe\, 38A Route Industrielle de la Hardt\, Molsheim\, 67120\, France
ORGANIZER;CN="Instant Grimpe":MAILTO:contact@instantgrimpe.fr
END:VEVENT
END:VCALENDAR